BEGIN:VCALENDAR
VERSION:2.0
PRODID:-//ChamberMaster//Event Calendar 2.0//EN
METHOD:PUBLISH
X-PUBLISHED-TTL:P3D
REFRESH-INTERVAL:P3D
CALSCALE:GREGORIAN
BEGIN:VEVENT
DTSTART:20251003T000000Z
DTEND:20251003T030000Z
X-MICROSOFT-CDO-ALLDAYEVENT:FALSE
SUMMARY:1st Thursday
DESCRIPTION:Celebrate Hispanic Heritage Month with us at 1st Thursday\, happening October 2\, from 5:00-8:00pm. Join us for a special evening co-created with Michael Montenegro of Chicano Culture SB\, with a pop-up history exhibit of images from the Museum's Santa Barbara News-Press archive\, lowriders in the courtyard\, and entertainment including Mariachi Reyes\, Folklorico Dancers\, and Freddy Castro & Friends! Free admission\, bring a friend! All ages welcome. Image: Manuel Unzeuta in front of his mural at Ortega Park\, with kids who also helped paint.? Photo by Doug Pensinger\, September 14\, 1986. Collection Santa Barbara Historical Museum
X-ALT-DESC;FMTTYPE=text/html:Celebrate Hispanic Heritage Month with us at 1st Thursday\, happening October 2\, from 5:00-8:00pm. Join us for a special evening co-created with Michael Montenegro of Chicano Culture SB\, with a pop-up history exhibit of images from the Museum&#39\;s Santa Barbara News-Press archive\, lowriders in the courtyard\, and entertainment including Mariachi Reyes\, Folklorico Dancers\, and Freddy Castro &amp\; Friends! Free admission\, bring a friend! All ages welcome. Image: Manuel Unzeuta in front of his mural at Ortega Park\, with kids who also helped paint.? Photo by Doug Pensinger\, September 14\, 1986. Collection Santa Barbara Historical Museum
LOCATION:Santa Barbara Historical Museum 136 E. De La Guerra Santa Barbara\, CA 93101
UID:e.3636.3182
SEQUENCE:3
DTSTAMP:20260419T151443Z
URL:https://business.goletachamber.com/events/details/1st-thursday-10-02-2025-3182
END:VEVENT

END:VCALENDAR
