BEGIN:VCALENDAR
VERSION:2.0
PRODID:-//ChamberMaster//Event Calendar 2.0//EN
METHOD:PUBLISH
X-PUBLISHED-TTL:P3D
REFRESH-INTERVAL:P3D
CALSCALE:GREGORIAN
BEGIN:VEVENT
DTSTART:20251031T000000Z
DTEND:20251031T020000Z
X-MICROSOFT-CDO-ALLDAYEVENT:FALSE
SUMMARY:Annual BOOcara\, Halloween celebration at The Ritz-Carlton Bacara\, Santa Barbara
DESCRIPTION:A Halloween Celebration at The Ritz-Carlton Bacara\, Santa Barbara!\n\nThis Halloween\, we invite families from our community and beyond to experience a one-of-a-kind celebration along the Santa Barbara coast. Enjoy an enchanting evening filled with property-wide trick-or-treating\, engaging family games\, hands-on art projects\, and a captivating haunted house.\n\nWhile children delight in festive activities and trick-or-treating\, parents are invited to indulge in a sophisticated "drink-or-treat" experience\, featuring curated seasonal cocktails crafted to capture the spirit of Halloween.\n\nAdmission Includes:\n\n	Valet or self-parking\n	Property-wide trick-or-treating for children\n	Exclusive cocktail tastings for adults\n	Elevated arts and crafts\, family activities\, and immersive seasonal experiences\n	Dress in your finest costume and join us for an elegant yet playful evening where cherished family memories are made.
X-ALT-DESC;FMTTYPE=text/html:A Halloween Celebration at The Ritz-Carlton Bacara\, Santa Barbara!<br />\nThis Halloween\, we invite families from our community and beyond to experience a one-of-a-kind celebration along the Santa Barbara coast. Enjoy an enchanting evening filled with property-wide trick-or-treating\, engaging family games\, hands-on art projects\, and a captivating haunted house.<br />\nWhile children delight in festive activities and trick-or-treating\, parents are invited to indulge in a sophisticated &ldquo\;drink-or-treat&rdquo\; experience\, featuring curated seasonal cocktails crafted to capture the spirit of Halloween.<br />\nAdmission Includes:\n<ul>\n	<li>Valet or self-parking</li>\n	<li>Property-wide trick-or-treating for children</li>\n	<li>Exclusive cocktail tastings for adults</li>\n	<li>Elevated arts and crafts\, family activities\, and immersive seasonal experiences</li>\n	<li>Dress in your finest costume and join us for an elegant yet playful evening where cherished family memories are made.</li>\n</ul>\n
LOCATION:The Ritz-Carlton Bacara\, Santa Barbara 8301 Hollister Avenue Santa Barbara\, CA 93117
UID:e.3636.2362
SEQUENCE:3
DTSTAMP:20260419T151141Z
URL:https://business.goletachamber.com/events/details/2-annual-boocara-halloween-celebration-at-the-ritz-carlton-bacara-santa-barbara-2362
END:VEVENT

END:VCALENDAR
