BEGIN:VCALENDAR
VERSION:2.0
PRODID:-//ChamberMaster//Event Calendar 2.0//EN
METHOD:PUBLISH
X-PUBLISHED-TTL:P3D
REFRESH-INTERVAL:P3D
CALSCALE:GREGORIAN
BEGIN:VEVENT
DTSTART:20251019T220000Z
DTEND:20251020T000000Z
X-MICROSOFT-CDO-ALLDAYEVENT:FALSE
SUMMARY:2025/26 Joint Season Opener - Romeo & Juliet
DESCRIPTION:Presented by Santa Barbara Symphony & State Street Ballet Nir Kabaretti\, conductor State Street Ballet Santa Barbara City College Brass Band A love forbidden. A love immortal. The greatest moments from Prokofiev's greatest ballet   the ardent Romeo and Juliet performed with grace and passion by dancers from State Street Ballet on the Granada stage. These concerts   and the season   begin as Nir Kabaretti and the Santa Barbara Symphony perform Shostakovich's spirited Festive Overture and Rachmaninoff's late\, luxuriant "Men's Dance" from Aleko. SHOSTAKOVICH | Festive Overture RACHMANINOFF | "Men's Dance" from Aleko PROKOFIEV | Romeo & Juliet\, Acts 1 & 2 Tickets start at $35
X-ALT-DESC;FMTTYPE=text/html:Presented by Santa Barbara Symphony &amp\; State Street Ballet Nir Kabaretti\, conductor State Street Ballet Santa Barbara City College Brass Band A love forbidden. A love immortal. The greatest moments from Prokofiev&rsquo\;s greatest ballet &ndash\; the ardent Romeo and Juliet performed with grace and passion by dancers from State Street Ballet on the Granada stage. These concerts &ndash\; and the season &ndash\; begin as Nir Kabaretti and the Santa Barbara Symphony perform Shostakovich&rsquo\;s spirited Festive Overture and Rachmaninoff&rsquo\;s late\, luxuriant &quot\;Men&#39\;s Dance&quot\; from Aleko. SHOSTAKOVICH | Festive Overture RACHMANINOFF | &quot\;Men&#39\;s Dance&quot\; from Aleko PROKOFIEV | Romeo &amp\; Juliet\, Acts 1 &amp\; 2 Tickets start at $35
LOCATION:The Granada Theatre
UID:e.3636.3187
SEQUENCE:3
DTSTAMP:20260419T151141Z
URL:https://business.goletachamber.com/events/details/2025-26-joint-season-opener-romeo-juliet-10-19-2025-3187
END:VEVENT

END:VCALENDAR
