BEGIN:VCALENDAR
VERSION:2.0
PRODID:-//ChamberMaster//Event Calendar 2.0//EN
METHOD:PUBLISH
X-PUBLISHED-TTL:P3D
REFRESH-INTERVAL:P3D
CALSCALE:GREGORIAN
BEGIN:VEVENT
DTSTART:20251025T170000Z
DTEND:20251025T220000Z
X-MICROSOFT-CDO-ALLDAYEVENT:FALSE
SUMMARY:4th Annual Plane Pull Fundraiser
DESCRIPTION:The galaxy is landing at Santa Barbara Airport! On Saturday\, October 25\, the legendary Alaska Air Star Wars: Galaxy's Edge plane will join Alpha Resource Center's annual Plane Pull fundraiser. \n\n\n\nGather your crew friends\, family\, coworkers and face off against a 100\,000-pound 737 in the ultimate tug-of-war challenge. Will your team have the strength to move The Force? \n\n\n\nDon't miss this one-of-a-kind event that combines community\, competition\, and a cause worth pulling for. Team registration is open now! \n\n\n\nFree viewing attendance encouraged
X-ALT-DESC;FMTTYPE=text/html:<span style="font-family:aptos\,sans-serif"><span style="font-size:11.0pt">The galaxy is landing at Santa Barbara Airport! On <strong>Saturday\, October 25</strong>\, the legendary Alaska Air Star Wars: Galaxy&rsquo\;s Edge plane will join Alpha Resource Center&rsquo\;s annual Plane Pull fundraiser.&nbsp\;<br />\n<br />\nGather your crew&mdash\;friends\, family\, coworkers&mdash\;and face off against a 100\,000-pound 737 in the ultimate tug-of-war challenge. Will your team have the strength to move The Force?&nbsp\;<br />\n<br />\nDon&rsquo\;t miss this one-of-a-kind event that combines community\, competition\, and a cause worth pulling for. Team registration is open now!&nbsp\;<br />\n<br />\nFree viewing attendance encouraged</span></span>
LOCATION:1503 Cook PL Santa Barbara\, CA 93117
UID:e.3636.2366
SEQUENCE:3
DTSTAMP:20260419T151132Z
URL:https://business.goletachamber.com/events/details/4th-annual-plane-pull-fundraiser-2366
END:VEVENT

END:VCALENDAR
