BEGIN:VCALENDAR
VERSION:2.0
PRODID:-//ChamberMaster//Event Calendar 2.0//EN
METHOD:PUBLISH
X-PUBLISHED-TTL:P3D
REFRESH-INTERVAL:P3D
CALSCALE:GREGORIAN
BEGIN:VEVENT
DTSTART:20251025T200000Z
DTEND:20251025T230000Z
X-MICROSOFT-CDO-ALLDAYEVENT:FALSE
SUMMARY:C.A.R.E.4Paws & Pours
DESCRIPTION:Join us at the Gatehouse at Bien Nacido in Santa Maria for a pawsitively inspiring gathering! Enjoy wonderful wine\, light hors d'oeuvres and live music by Jon Millsap while discovering the latest news about C.A.R.E.4Paws' work to improve pet family welfare on the Central Coast from the expansion of our mobile veterinary clinics to the launch of the region's first confidential Pet Refuge for dogs and cats whose families are navigating life crises. Our friendraiser is free to attend\, and well-behaved dogs on leash are welcome to join the fun! Plus\, Bien Nacido donates 10% of all weekend sales to C.A.R.E.4Paws! It's the purrfect time to connect and be part of meaningful change for pets and their people.
X-ALT-DESC;FMTTYPE=text/html:Join us at the Gatehouse at Bien Nacido in Santa Maria for a pawsitively inspiring gathering! Enjoy wonderful wine\, light hors d&rsquo\;oeuvres and live music by Jon Millsap while discovering the latest news about C.A.R.E.4Paws&rsquo\; work to improve pet family welfare on the Central Coast&mdash\;from the expansion of our mobile veterinary clinics to the launch of the region&rsquo\;s first confidential Pet Refuge for dogs and cats whose families are navigating life crises. Our friendraiser is free to attend\, and well-behaved dogs on leash are welcome to join the fun! Plus\, Bien Nacido donates 10% of all weekend sales to C.A.R.E.4Paws! It&rsquo\;s the purrfect time to connect and be part of meaningful change for pets and their people.
LOCATION:The Gatehouse at Bien Nacido 3503 Rancho Tepusquet Road Santa Maria\, California 93454
UID:e.3636.3191
SEQUENCE:3
DTSTAMP:20260423T111409Z
URL:https://business.goletachamber.com/events/details/c-a-r-e-4paws-pours-3191
END:VEVENT

END:VCALENDAR
