BEGIN:VCALENDAR
VERSION:2.0
PRODID:-//ChamberMaster//Event Calendar 2.0//EN
METHOD:PUBLISH
X-PUBLISHED-TTL:P3D
REFRESH-INTERVAL:P3D
CALSCALE:GREGORIAN
BEGIN:VEVENT
DTSTART;VALUE=DATE:20251126
DTEND;VALUE=DATE:20251127
TRANSP:TRANSPARENT
X-MICROSOFT-CDO-ALLDAYEVENT:TRUE
SUMMARY:Casino Royal Party - The Good Lion Celebrates 11 Years!
DESCRIPTION:Join The Good Lion as they celebrate 11 unforgettable years on Wednesday\, November 26\, with an elegant Casino Royale-themed anniversary celebration! Slip into your classiest formal wear and prepare for a night of timeless glamour\, never-ending martinis (with optional caviar bumps!)\, and elevated classics like Vespers\, Manhattans\, and French 75s. A DJ will set the vibe while guests try their luck in a lively dice-roll game for fun\, cheeky prizes think squirt-gun cocktails and more surprises. Falling on the always-festive night before Thanksgiving\, this anniversary promises to be one of The Good Lion's biggest celebrations yet. Get ready to sip\, sparkle\, and play!
X-ALT-DESC;FMTTYPE=text/html:Join The Good Lion as they celebrate 11 unforgettable years on Wednesday\, November 26\, with an elegant Casino Royale-themed anniversary celebration! Slip into your classiest formal wear and prepare for a night of timeless glamour\, never-ending martinis (with optional caviar bumps!)\, and elevated classics like Vespers\, Manhattans\, and French 75s. A DJ will set the vibe while guests try their luck in a lively dice-roll game for fun\, cheeky prizes&mdash\;think squirt-gun cocktails and more surprises. Falling on the always-festive night before Thanksgiving\, this anniversary promises to be one of The Good Lion&rsquo\;s biggest celebrations yet. Get ready to sip\, sparkle\, and play!
LOCATION:The Good Lion 1212 State St Santa Barbara\, CA 93101
UID:e.3636.3249
SEQUENCE:3
DTSTAMP:20260423T122349Z
URL:https://business.goletachamber.com/events/details/casino-royal-party-the-good-lion-celebrates-11-years-3249
END:VEVENT

END:VCALENDAR
