BEGIN:VCALENDAR
VERSION:2.0
PRODID:-//ChamberMaster//Event Calendar 2.0//EN
METHOD:PUBLISH
X-PUBLISHED-TTL:P3D
REFRESH-INTERVAL:P3D
CALSCALE:GREGORIAN
BEGIN:VEVENT
DTSTART:20251225T200000Z
DTEND:20251226T030000Z
X-MICROSOFT-CDO-ALLDAYEVENT:FALSE
SUMMARY:Christmas Day Buffet at Finch & Fork
DESCRIPTION:Gather your loved ones and celebrate Christmas Day with a festive Holiday Buffet at Finch & Fork on Thursday\, December 25\, from 12-7pm! Enjoy a beautifully curated dining experience featuring a lavish raw bar\, carving stations\, comforting classic sides\, soups\, salads\, and an array of decadent desserts. Set in the warm\, welcoming atmosphere of downtown Santa Barbara's favorite neighborhood restaurant\, Finch & Fork's Christmas Holiday Buffet is the perfect way to savor the season together. Reservations are strongly encouraged\, with tickets available for purchase on OpenTable: $120 per adult and $55 for children under 12. Beverages are served additionally.
X-ALT-DESC;FMTTYPE=text/html:Gather your loved ones and celebrate Christmas Day with a festive Holiday Buffet at Finch &amp\; Fork on Thursday\, December 25\, from 12-7pm! Enjoy a beautifully curated dining experience featuring a lavish raw bar\, carving stations\, comforting classic sides\, soups\, salads\, and an array of decadent desserts. Set in the warm\, welcoming atmosphere of downtown Santa Barbara&rsquo\;s favorite neighborhood restaurant\, Finch &amp\; Fork&rsquo\;s Christmas Holiday Buffet is the perfect way to savor the season together. Reservations are strongly encouraged\, with tickets available for purchase on OpenTable: $120 per adult and $55 for children under 12. Beverages are served additionally.
LOCATION:Finch & Fork 31 W Carrillo St\, Santa Barbara\, CA 93101
UID:e.3636.3238
SEQUENCE:3
DTSTAMP:20260423T134536Z
URL:https://business.goletachamber.com/events/details/christmas-day-buffet-at-finch-fork-3238
END:VEVENT

END:VCALENDAR
