BEGIN:VCALENDAR
VERSION:2.0
PRODID:-//ChamberMaster//Event Calendar 2.0//EN
METHOD:PUBLISH
X-PUBLISHED-TTL:P3D
REFRESH-INTERVAL:P3D
CALSCALE:GREGORIAN
BEGIN:VEVENT
DTSTART:20251004T170000Z
DTEND:20251004T200000Z
X-MICROSOFT-CDO-ALLDAYEVENT:FALSE
SUMMARY:Free Nature Play Day
DESCRIPTION:Come play\, explore\, and connect with the natural world alongside the staff and friends of Wilderness Youth and enjoy hands-on activities and creative outdoor fun for the whole family including nature crafts\, earth-based skills\, and other interactive activities led by Wilderness Youth Project staff and other local community partners\, like Yes Yes Nursery\, who will be leading a seed planting activity.
X-ALT-DESC;FMTTYPE=text/html:Come play\, explore\, and connect with the natural world alongside the staff and friends of Wilderness Youth and enjoy hands-on activities and creative outdoor fun for the whole family including nature crafts\, earth-based skills\, and other interactive activities led by Wilderness Youth Project staff and other local community partners\, like Yes Yes Nursery\, who will be leading a seed planting activity.
LOCATION:Oak Park (at the creekside Sycamore Picnic Area)\, near Cottage Hospital in Santa Barbara\, CA
UID:e.3636.3178
SEQUENCE:3
DTSTAMP:20260423T111501Z
URL:https://business.goletachamber.com/events/details/free-nature-play-day-3178
END:VEVENT

END:VCALENDAR
