BEGIN:VCALENDAR
VERSION:2.0
PRODID:-//ChamberMaster//Event Calendar 2.0//EN
METHOD:PUBLISH
X-PUBLISHED-TTL:P3D
REFRESH-INTERVAL:P3D
CALSCALE:GREGORIAN
BEGIN:VEVENT
DTSTART:20251014T170000Z
DTEND:20251014T183000Z
X-MICROSOFT-CDO-ALLDAYEVENT:FALSE
SUMMARY:Hive with Sara Caputo
DESCRIPTION:Work from here Join Sara Caputo at Workzones for a deep-work power hour! Hear Sara's productivity tips and then have an hour of focused work time! Wrap back up at the end to discuss a thing or two you worked on!
X-ALT-DESC;FMTTYPE=text/html:Work from here Join Sara Caputo at Workzones for a deep-work power hour! Hear Sara&#39\;s productivity tips and then have an hour of focused work time! Wrap back up at the end to discuss a thing or two you worked on!
LOCATION:Workzones 351 Paseo Nuevo\, Santa Barbara CA 93101
UID:e.3636.3185
SEQUENCE:3
DTSTAMP:20260423T111558Z
URL:https://business.goletachamber.com/events/details/hive-with-sara-caputo-10-14-2025-3185
END:VEVENT

END:VCALENDAR
