BEGIN:VCALENDAR
VERSION:2.0
PRODID:-//ChamberMaster//Event Calendar 2.0//EN
METHOD:PUBLISH
X-PUBLISHED-TTL:P3D
REFRESH-INTERVAL:P3D
CALSCALE:GREGORIAN
BEGIN:VEVENT
DTSTART:20251018T170000Z
DTEND:20251018T210000Z
X-MICROSOFT-CDO-ALLDAYEVENT:FALSE
SUMMARY:Housing Santa Barbara: Community Resource Seminars
DESCRIPTION:As an organization\, Housing Santa Barbara advocates for more affordable housing opportunities for all in our community. We are hosting the Housing Santa Barbara: Community Resource Seminars\, which will be a series of informational presentations on affordable housing and financial empowerment resources in our community. Attendees will be able to ask questions and learn from local experts. In-Person Seminars Saturday\, October 18th 10:00 AM   Preparing to Buy a Home 11:15 AM   City & County Affordable Housing Units 12:30 PM   Down Payment Assistance Wednesday\, October 22nd 6:00 PM   Tenant Rights & Responsibilities 7:15 PM   How to Apply for Affordable Housing Online Seminar Wednesday\, October 29th 6:00 PM   Preapproved ADU Overview In-person seminars will be held at the Presidio Springs Community Room (721 Laguna Street\, Santa Barbara). Habr  interpretaci n al espa ol disponible. To RSVP & for more information\, visit - www.housingsantabarbara.org/resource-seminars
X-ALT-DESC;FMTTYPE=text/html:As an organization\, Housing Santa Barbara advocates for more affordable housing opportunities for all in our community. We are hosting the Housing Santa Barbara: Community Resource Seminars\, which will be a series of informational presentations on affordable housing and financial empowerment resources in our community. Attendees will be able to ask questions and learn from local experts. In-Person Seminars Saturday\, October 18th 10:00 AM &ndash\; Preparing to Buy a Home 11:15 AM &ndash\; City &amp\; County Affordable Housing Units 12:30 PM &ndash\; Down Payment Assistance Wednesday\, October 22nd 6:00 PM &ndash\; Tenant Rights &amp\; Responsibilities 7:15 PM &ndash\; How to Apply for Affordable Housing Online Seminar Wednesday\, October 29th 6:00 PM &ndash\; Preapproved ADU Overview In-person seminars will be held at the Presidio Springs Community Room (721 Laguna Street\, Santa Barbara). Habr&aacute\; interpretaci&oacute\;n al espa&ntilde\;ol disponible. To RSVP &amp\; for more information\, visit - www.housingsantabarbara.org/resource-seminars
LOCATION:721 Laguna Street\, Santa Barbara CA 93101
UID:e.3636.3188
SEQUENCE:3
DTSTAMP:20260423T111203Z
URL:https://business.goletachamber.com/events/details/housing-santa-barbara-community-resource-seminars-3188
END:VEVENT

END:VCALENDAR
