BEGIN:VCALENDAR
VERSION:2.0
PRODID:-//ChamberMaster//Event Calendar 2.0//EN
METHOD:PUBLISH
X-PUBLISHED-TTL:P3D
REFRESH-INTERVAL:P3D
CALSCALE:GREGORIAN
BEGIN:VEVENT
DTSTART:20260213T030000Z
DTEND:20260213T053000Z
X-MICROSOFT-CDO-ALLDAYEVENT:FALSE
SUMMARY:Laurie Douglas Santa Barbara Comedy Valentines Show
DESCRIPTION:Enjoy a night of great laughter\, food\, and drinks during the 41st Santa Barbara International Film Festival at the Speakeasy Comedy Bar. The spectacular Laurie Douglas comes to Santa Barbara\, headlining a special Valentine's Comedy Show on Thursday\, February 12th. Hosted by MC Comedian Tatum Price\, a beloved regular in the Santa Barbara Comedy Scene. RSVP for this hilarious night of comedy\, food\, and drinks at the new Santa Barbara Speakeasy Comedy Bar.
X-ALT-DESC;FMTTYPE=text/html:<span style="font-family:arial\,helvetica\,sans-serif\; font-size:12px">Enjoy a night of great laughter\, food\, and drinks during the&nbsp\;</span><strong>41st Santa Barbara International Film Festival</strong><span style="font-family:arial\,helvetica\,sans-serif\; font-size:12px">&nbsp\;at the Speakeasy Comedy Bar.&nbsp\;</span>The spectacular Laurie Douglas comes to Santa Barbara\, headlining a special Valentine&#39\;s Comedy Show on Thursday\, February 12th. Hosted by MC Comedian Tatum Price\, a beloved regular in the Santa Barbara Comedy Scene. RSVP for this hilarious night of comedy\, food\, and drinks at the new Santa Barbara Speakeasy Comedy Bar.
LOCATION:Speakeasy Comedy Bar 409 State Street Santa Barbara\, CA 93101
UID:e.3636.3419
SEQUENCE:3
DTSTAMP:20260423T160534Z
URL:https://business.goletachamber.com/events/details/laurie-douglas-santa-barbara-comedy-valentines-show-3419
END:VEVENT

END:VCALENDAR
