BEGIN:VCALENDAR
VERSION:2.0
PRODID:-//ChamberMaster//Event Calendar 2.0//EN
METHOD:PUBLISH
X-PUBLISHED-TTL:P3D
REFRESH-INTERVAL:P3D
CALSCALE:GREGORIAN
BEGIN:VEVENT
DTSTART:20260618T000000Z
DTEND:20260625T030000Z
X-MICROSOFT-CDO-ALLDAYEVENT:FALSE
SUMMARY:Meet Me in Old Town Goleta 2026 Free Community Event
DESCRIPTION:Join us for a fun-filled evening at the new community event series hosted by the Santa Barbara South Coast Chamber of Commerce in Old Town Goleta! Community West Bank (5827 Hollister Ave) will come alive with a lively block from 5-8 PM. Bring your friends and family to enjoy great music\, delicious food\, and a vibrant atmosphere. Don't miss out on these exciting community gatherings!\n\n\n\nJune 17 & June 24\n\n\n\n\n\n nete a nosotros para una noche llena de diversi n en la nueva serie de eventos comunitarios organizada por la C mara de Comercio de la Costa Sur de Santa B rbara en el estacionamiento de Community West Bank (5827 Hollister Ave)   Trae a tus amigos y familiares para disfrutar de buena m sica\, deliciosa comida y un ambiente vibrante!\n\n\n\nJunio 17 & 24
X-ALT-DESC;FMTTYPE=text/html:Join us for a fun-filled evening at the new community event series hosted by the Santa Barbara South Coast Chamber of Commerce in Old Town Goleta! Community West Bank (5827 Hollister Ave) will come alive with a lively block from 5-8 PM. Bring your friends and family to enjoy great music\, delicious food\, and a vibrant atmosphere. Don&rsquo\;t miss out on these exciting community gatherings!<br />\n<br />\nJune 17 &amp\; June 24<br />\n<br />\n<br />\n&Uacute\;nete a nosotros para una noche llena de diversi&oacute\;n en la nueva serie de eventos comunitarios organizada por la C&aacute\;mara de Comercio de la Costa Sur de Santa B&aacute\;rbara en el estacionamiento de Community West Bank (5827 Hollister Ave)&nbsp\; &iexcl\;Trae a tus amigos y familiares para disfrutar de buena m&uacute\;sica\, deliciosa comida y un ambiente vibrante!<br />\n<br />\nJunio 17 &amp\; 24
LOCATION:Community West Bank (5827 Hollister Ave)
UID:e.3636.3481
SEQUENCE:3
DTSTAMP:20260421T022155Z
URL:https://business.goletachamber.com/events/details/meet-me-in-old-town-goleta-2026-free-community-event-3481
END:VEVENT

END:VCALENDAR
