BEGIN:VCALENDAR
VERSION:2.0
PRODID:-//ChamberMaster//Event Calendar 2.0//EN
METHOD:PUBLISH
X-PUBLISHED-TTL:P3D
REFRESH-INTERVAL:P3D
CALSCALE:GREGORIAN
BEGIN:VEVENT
DTSTART;VALUE=DATE:20260130
DTEND;VALUE=DATE:20260228
TRANSP:TRANSPARENT
X-MICROSOFT-CDO-ALLDAYEVENT:TRUE
SUMMARY:Mini-Grants Available for CycleMAYnia Bike Month Activities
DESCRIPTION:The Santa Barbara County Association of Governments (SBCAG) is now accepting applications for mini-grants of up to $700 each to fund CycleMAYnia activities during National Bike Month in May 2026. The deadline to apply for funding and submit any bike month related activity to the CycleMAYnia community calendar is Feb. 27\, giving individuals\, employers\, community groups and organizations time to plan biking-related events that promote safety\, education\, sustainable transportation\, and improved physical and mental health. CycleMAYnia activities are developed by the community and designed for the community\, in partnership with SBCAG. CycleMAYnia 2026 will carry the theme "Pedal Forward\," highlighting efforts to build momentum toward a more connected\, healthy\, and bike friendly region. CycleMAYnia is supported by Measure A the countywide half-cent transportation sales tax and local sponsors. Sponsorship opportunities are available for 2026. Mini grants are open to applicants age 18+ for activities that start and end in Santa Barbara County\, and community calendar submissions are open to local businesses and the public\, with or without a mini-grant application. For more information\, visit www.cyclemaynia.org or contact SBCAG at (805) 600-4477 or info@sbcag.org.
X-ALT-DESC;FMTTYPE=text/html:The Santa Barbara County Association of Governments (SBCAG) is now accepting applications for mini-grants of up to $700 each to fund CycleMAYnia activities during National Bike Month in May 2026. The deadline to apply for funding and submit any bike month related activity to the CycleMAYnia community calendar is Feb. 27\, giving individuals\, employers\, community groups and organizations time to plan biking-related events that promote safety\, education\, sustainable transportation\, and improved physical and mental health. CycleMAYnia activities are developed by the community and designed for the community\, in partnership with SBCAG. CycleMAYnia 2026 will carry the theme &ldquo\;Pedal Forward\,&rdquo\; highlighting efforts to build momentum toward a more connected\, healthy\, and bike friendly region. CycleMAYnia is supported by Measure A&mdash\;the countywide half-cent transportation sales tax&mdash\;and local sponsors. Sponsorship opportunities are available for 2026. Mini grants are open to applicants age 18+ for activities that start and end in Santa Barbara County\, and community calendar submissions are open to local businesses and the public\, with or without a mini-grant application. For more information\, visit www.cyclemaynia.org or contact SBCAG at (805) 600-4477 or info@sbcag.org.
LOCATION:
UID:e.3636.3298
SEQUENCE:3
DTSTAMP:20260423T150431Z
URL:https://business.goletachamber.com/events/details/mini-grants-available-for-cyclemaynia-bike-month-activities-3298
END:VEVENT

END:VCALENDAR
