BEGIN:VCALENDAR
VERSION:2.0
PRODID:-//ChamberMaster//Event Calendar 2.0//EN
METHOD:PUBLISH
X-PUBLISHED-TTL:P3D
REFRESH-INTERVAL:P3D
CALSCALE:GREGORIAN
BEGIN:VEVENT
DTSTART:20260213T013000Z
DTEND:20260213T023000Z
X-MICROSOFT-CDO-ALLDAYEVENT:FALSE
SUMMARY:More Mesa Musings (Thursday Lecture) A talk in partnership with More Mesa Preservation Coalition
DESCRIPTION:Join historian Hattie Beresford for the story behind More Mesa Open Space. Discover its people and tales of epic heat\, disastrous floods\, and droughts -- all followed by murder most foul. Attend a 1901 beach party\, and view the final remains of Rancho la Goleta. This presentation is co-hosted with More Mesa Preservation Coalition\, an organization committed to preserving More Mesa as open space in perpetuity. Reservation required. Tickets purchased here: https://www.eventbrite.com/e/more-mesa-musings-thursday-lecture-tickets-1982056290721?aff=oddtdtcreator
X-ALT-DESC;FMTTYPE=text/html:Join historian Hattie Beresford for the story behind More Mesa Open Space. Discover its people and tales of epic heat\, disastrous floods\, and droughts -- all followed by murder most foul. Attend a 1901 beach party\, and view the final remains of Rancho la Goleta. This presentation is co-hosted with More Mesa Preservation Coalition\, an organization committed to preserving More Mesa as open space in perpetuity. Reservation required. Tickets purchased here: https://www.eventbrite.com/e/more-mesa-musings-thursday-lecture-tickets-1982056290721?aff=oddtdtcreator
LOCATION:Santa Barbara Historical Museum 136 E. De La Guerra St. Santa Barbara\, CA 93101
UID:e.3636.3421
SEQUENCE:3
DTSTAMP:20260423T160632Z
URL:https://business.goletachamber.com/events/details/more-mesa-musings-thursday-lecture-a-talk-in-partnership-with-more-mesa-preservation-coalition-3421
END:VEVENT

END:VCALENDAR
