BEGIN:VCALENDAR
VERSION:2.0
PRODID:-//ChamberMaster//Event Calendar 2.0//EN
METHOD:PUBLISH
X-PUBLISHED-TTL:P3D
REFRESH-INTERVAL:P3D
CALSCALE:GREGORIAN
BEGIN:VEVENT
DTSTART:20251010T003000Z
DTEND:20251011T060000Z
X-MICROSOFT-CDO-ALLDAYEVENT:FALSE
SUMMARY:NatureTrack Film Festival
DESCRIPTION:The NatureTrack Film Festival returns October 9 10\, 2025 to the Riviera Theatre in Santa Barbara and Camino Real Cinemas in Goleta. This year marks 15 years of NatureTrack's nonprofit mission and 7 years of the festival\, which showcases award-winning films celebrating nature and outdoor adventure. Opening night features a lively courtyard party with cocktails\, treats\, a filmmaker Q&A\, and a Silent Disco under the stars. The evening also includes the inaugural Outdoor Icon Award honoring Bimarian Films and recognition of Honored Artist John Iwerks. More than 20 national and international films will screen\, from Alone in Greenland to Saving Our Ancestors and Walking With Elephants. All proceeds support NatureTrack's work providing free outdoor experiences and wheelchair-accessible adventures for people of all ages.
X-ALT-DESC;FMTTYPE=text/html:The NatureTrack Film Festival returns October 9&ndash\;10\, 2025 to the Riviera Theatre in Santa Barbara and Camino Real Cinemas in Goleta. This year marks 15 years of NatureTrack&rsquo\;s nonprofit mission and 7 years of the festival\, which showcases award-winning films celebrating nature and outdoor adventure. Opening night features a lively courtyard party with cocktails\, treats\, a filmmaker Q&amp\;A\, and a Silent Disco under the stars. The evening also includes the inaugural Outdoor Icon Award honoring Bimarian Films and recognition of Honored Artist John Iwerks. More than 20 national and international films will screen\, from Alone in Greenland to Saving Our Ancestors and Walking With Elephants. All proceeds support NatureTrack&rsquo\;s work providing free outdoor experiences and wheelchair-accessible adventures for people of all ages.
LOCATION:Riviera Theater & Camino Real Cinemas
UID:e.3636.3179
SEQUENCE:3
DTSTAMP:20260423T111829Z
URL:https://business.goletachamber.com/events/details/naturetrack-film-festival-10-09-2025-3179
END:VEVENT

END:VCALENDAR
