BEGIN:VCALENDAR
VERSION:2.0
PRODID:-//ChamberMaster//Event Calendar 2.0//EN
METHOD:PUBLISH
X-PUBLISHED-TTL:P3D
REFRESH-INTERVAL:P3D
CALSCALE:GREGORIAN
BEGIN:VEVENT
DTSTART:20251024T020000Z
DTEND:20251026T220000Z
X-MICROSOFT-CDO-ALLDAYEVENT:FALSE
SUMMARY:New Beginnings Annual Benefit Dinner & Performances
DESCRIPTION:Join us for an unforgettable evening featuring a special presentation of Jonny & The Baptists\, a one-of-a-kind performance blending music and comedy in a joyful\, thought-provoking exploration of what it means to find happiness in a chaotic world. New Beginnings brings internationally acclaimed British duo Jonny Donahoe and Paddy Gervers to Santa Barbara's Center Stage Theatre. Known for their razor-sharp wit\, music\, and fearless satire on mental health\, the performers will take the stage to raise awareness and critical funds for New Beginnings' programs counseling services. And that's not all   our Gala weekend will also include two encore performances of Donahoe's deeply moving and acclaimed one-man show\, Every Brilliant Thing\, which\, previously performed for New Beginnings in 2022 and currently getting rave reviews on London's West End. Show Dates - Reserve your tickets or become a sponsor. Thursday\, October 23: Preview of Jonny & The Baptists Friday\, October 24 Every Brilliant Thing Saturday\, October 25: The Premiere of Jonny & The Baptists Sunday\, October 26: Every Brilliant Thing Sponsors enjoy a pre-show dinner at Bouchon restaurant in Santa Barbara. This year's Gala supports a cause that is more urgent than ever: Accessible Mental Healthcare
X-ALT-DESC;FMTTYPE=text/html:Join us for an unforgettable evening featuring a special presentation of Jonny &amp\; The Baptists\, a one-of-a-kind performance blending music and comedy in a joyful\, thought-provoking exploration of what it means to find happiness in a chaotic world. New Beginnings brings internationally acclaimed British duo Jonny Donahoe and Paddy Gervers to Santa Barbara&#39\;s Center Stage Theatre. Known for their razor-sharp wit\, music\, and fearless satire on mental health\, the performers will take the stage to raise awareness&mdash\;and critical funds&mdash\;for New Beginnings&rsquo\; programs counseling services. And that&rsquo\;s not all &mdash\; our Gala weekend will also include two encore performances of Donahoe&#39\;s deeply moving and acclaimed one-man show\, Every Brilliant Thing\, which\, previously performed for New Beginnings in 2022 and currently getting rave reviews on London&#39\;s West End. Show Dates - Reserve your tickets or become a sponsor. Thursday\, October 23: Preview of Jonny &amp\; The Baptists Friday\, October 24 Every Brilliant Thing Saturday\, October 25: The Premiere of Jonny &amp\; The Baptists Sunday\, October 26: Every Brilliant Thing Sponsors enjoy a pre-show dinner at Bouchon restaurant in Santa Barbara. This year&rsquo\;s Gala supports a cause that is more urgent than ever: Accessible Mental Healthcare
LOCATION:Centerstage Theater
UID:e.3636.3177
SEQUENCE:3
DTSTAMP:20260423T111050Z
URL:https://business.goletachamber.com/events/details/new-beginnings-annual-benefit-dinner-performances-3177
END:VEVENT

END:VCALENDAR
