BEGIN:VCALENDAR
VERSION:2.0
PRODID:-//ChamberMaster//Event Calendar 2.0//EN
METHOD:PUBLISH
X-PUBLISHED-TTL:P3D
REFRESH-INTERVAL:P3D
CALSCALE:GREGORIAN
BEGIN:VEVENT
DTSTART:20251206T220000Z
DTEND:20251207T010000Z
X-MICROSOFT-CDO-ALLDAYEVENT:FALSE
SUMMARY:Presidio Neighborhood Holiday Stroll
DESCRIPTION:Kick off the holiday season in the heart of Santa Barbara's historic Presidio Neighborhood! The Presidio Neighborhood Holiday Stroll invites locals and visitors alike to explore our vibrant community of wineries\, retailers\, cultural organizations\, and restaurants\, each offering their own take on seasonal hospitality.\n\nGuests will receive a map to guide them through participating businesses and enjoy small bites\, drinks\, and exclusive holiday offers along the way.\n\nCheck in: Casa de la Guerra   15 E. De La Guerra Street\n\nParking: 902 Anacapa Street\n\n \n\n\n\nThis year's participating businesses include:\n\n\n	\n	Casa de la Guerra\n	\n	\n	Cheese Shop Santa Barbara\n	\n	\n	Irene Hoffman Design\n	\n	\n	Kunin Wines\n	\n	\n	Loubud Wines\n	\n	\n	Lovebird Boutique\n	\n	\n	Peace in a Pod Elementary\n	\n	\n	Rudy's Mexican Restaurant\n	\n	\n	Santa Barbara Historical Museum\n	\n	\n	The Eddy\n	\n	\n	Tyler Lieu Dit\n	\n	\n	Zaytoon\n	\n\n\n\n\n\n\n\n\nTickets are $60 and expected to sell out! Purchase yours today!\n\nVisit presidioneighborhoodsb.com/holidaystroll for more information!
X-ALT-DESC;FMTTYPE=text/html:<div>\n<div>\n<div>\n<p>Kick off the holiday season in the heart of Santa Barbara&rsquo\;s historic Presidio Neighborhood! The&nbsp\;<strong>Presidio Neighborhood Holiday Stroll</strong>&nbsp\;invites locals and visitors alike to explore our vibrant community of&nbsp\;<strong>wineries\, retailers\, cultural organizations\, and restaurants</strong>\, each offering their own take on seasonal hospitality.</p>\n\n<p>Guests will receive a&nbsp\;<strong>map&nbsp\;</strong>to guide them through participating businesses and enjoy small bites\, drinks\, and exclusive holiday offers along the way.</p>\n\n<h3>Check in:&nbsp\;Casa de la Guerra &ndash\; 15 E. De La Guerra Street<br />\nParking:&nbsp\;902 Anacapa Street</h3>\n\n<p>&nbsp\;</p>\n</div>\n\n<div>\n<p>This year&rsquo\;s participating businesses include:</p>\n\n<ul>\n	<li>\n	<h3>Casa de la Guerra</h3>\n	</li>\n	<li>\n	<h3>Cheese Shop Santa Barbara</h3>\n	</li>\n	<li>\n	<h3>Irene Hoffman Design</h3>\n	</li>\n	<li>\n	<h3>Kunin Wines</h3>\n	</li>\n	<li>\n	<h3>Loubud Wines</h3>\n	</li>\n	<li>\n	<h3>Lovebird Boutique</h3>\n	</li>\n	<li>\n	<h3>Peace in a Pod Elementary</h3>\n	</li>\n	<li>\n	<h3>Rudy&rsquo\;s Mexican Restaurant</h3>\n	</li>\n	<li>\n	<h3>Santa Barbara Historical Museum</h3>\n	</li>\n	<li>\n	<h3>The Eddy</h3>\n	</li>\n	<li>\n	<h3>Tyler Lieu Dit</h3>\n	</li>\n	<li>\n	<h3>Zaytoon</h3>\n	</li>\n</ul>\n</div>\n</div>\n</div>\n\n<div>\n<div>\n<div>\n<p>Tickets are $60 and expected to sell out! Purchase yours today!</p>\n\n<p>Visit presidioneighborhoodsb.com/holidaystroll for more information!</p>\n</div>\n</div>\n</div>\n
LOCATION:
UID:e.3636.3247
SEQUENCE:3
DTSTAMP:20260423T134507Z
URL:https://business.goletachamber.com/events/details/presidio-neighborhood-holiday-stroll-3247
END:VEVENT

END:VCALENDAR
