BEGIN:VCALENDAR
VERSION:2.0
PRODID:-//ChamberMaster//Event Calendar 2.0//EN
METHOD:PUBLISH
X-PUBLISHED-TTL:P3D
REFRESH-INTERVAL:P3D
CALSCALE:GREGORIAN
BEGIN:VEVENT
DTSTART:20260205T030000Z
DTEND:20260205T053000Z
X-MICROSOFT-CDO-ALLDAYEVENT:FALSE
SUMMARY:Santa Barbara Standup Comedy Show
DESCRIPTION:Come laugh and enjoy stand-up comedians performing their newest jokes and comedy live on the road to stand-up comedy specials\, concerts\, and comedy venues worldwide. Expect surprise performances and special shows dedicated to Santa Barbara nonprofits benefiting our community. Doors open at 5 PM\, enjoy great soul food from Kool Runninz SB.
X-ALT-DESC;FMTTYPE=text/html:<span style="color:rgb(29\, 16\, 44)\; font-family:museo sans w01\,helvetica neue\,helvetica\,helvetica\,arial\,sans-serif\; font-size:14px">Come laugh and enjoy stand-up comedians performing their newest jokes and comedy live on the road to stand-up comedy specials\, concerts\, and comedy venues worldwide. Expect surprise performances and special shows dedicated to Santa Barbara nonprofits benefiting our community.&nbsp\;Doors open at 5 PM\, enjoy great soul food from Kool Runninz SB.</span>
LOCATION:Speakeasy Comedy Bar 409 State Street Santa Barbara\, CA 93101
UID:e.3636.3299
SEQUENCE:3
DTSTAMP:20260423T160514Z
URL:https://business.goletachamber.com/events/details/santa-barbara-standup-comedy-show-3299
END:VEVENT

END:VCALENDAR
