BEGIN:VCALENDAR
VERSION:2.0
PRODID:-//ChamberMaster//Event Calendar 2.0//EN
METHOD:PUBLISH
X-PUBLISHED-TTL:P3D
REFRESH-INTERVAL:P3D
CALSCALE:GREGORIAN
BEGIN:VEVENT
DTSTART:20260118T033000Z
DTEND:20260118T230000Z
X-MICROSOFT-CDO-ALLDAYEVENT:FALSE
SUMMARY:Santa Barbara Symphony- Beethoven Piano Concerto Marathon
DESCRIPTION:Santa Barbara Symphony- Beethoven Piano Concerto Marathon All Five Beethoven Piano Concertos in Two Different Programs Over One Weekend Saturday\, January 17\, 2026 | 7:30 PM Sunday\, January 18\, 2026 | 3:00 PM The Granada Theatre Attend "Conversations with KUSC" with on-air personality Jennifer Miller Hammel Saturday Pre-Concert Chat | 6:30-7:00 PM Sunday Pre-Concert Chat | 2:00-2:30 PM Alongside his Symphonies\, the Piano Concertos of Beethoven have been towering masterworks for two centuries. Nir Kabaretti and The Symphony present all five of Beethoven's Concertos across a single weekend. From the youthful First Piano Concerto\, composed at age 25\, to the grand "Emperor" Concerto written in the war-torn Vienna of 1809. Each is performed by a medalist from a prestigious international piano competition. The Artists Nir Kabaretti\, Conductor Soloists\, 5 winners & medalists of different international piano competitions Dmitry Shishkin\, Piano Angie Zhang\, Piano Min Joo Yi\, Piano Evren Ozel\, Piano Jonathan Mamora\, Piano Repertoire CONCERTO NO. 3 (Sat) Min Joo Yi (Music Academy of the West Solo Piano Concerto Competition) CONCERTO NO. 4 (Sat) Evren Ozel (Cleveland International Piano Competition) CONCERTO NO. 1 (Sun) Dmitry Shishkin (International Tchaikovsky and Geneva International competitions) CONCERTO NO. 2 (Sun) Angie Zhang (American Piano Awards) CONCERTO NO. 5 (Sun) Jonathan Mamora (Palm Springs International Piano Competition) For more info and tickets\, visit: https://thesymphony.org/concerts-events/orchestra-concerts/beethoven-concerto-marathon/
X-ALT-DESC;FMTTYPE=text/html:Santa Barbara Symphony- Beethoven Piano Concerto Marathon All Five Beethoven Piano Concertos in Two Different Programs Over One Weekend Saturday\, January 17\, 2026 | 7:30 PM Sunday\, January 18\, 2026 | 3:00 PM The Granada Theatre Attend &quot\;Conversations with KUSC&quot\; with on-air personality Jennifer Miller Hammel Saturday Pre-Concert Chat | 6:30-7:00 PM Sunday Pre-Concert Chat | 2:00-2:30 PM Alongside his Symphonies\, the Piano Concertos of Beethoven have been towering masterworks for two centuries. Nir Kabaretti and The Symphony present all five of Beethoven&rsquo\;s Concertos across a single weekend. From the youthful First Piano Concerto\, composed at age 25\, to the grand &ldquo\;Emperor&rdquo\; Concerto written in the war-torn Vienna of 1809. Each is performed by a medalist from a prestigious international piano competition. The Artists Nir Kabaretti\, Conductor Soloists\, 5 winners &amp\; medalists of different international piano competitions Dmitry Shishkin\, Piano Angie Zhang\, Piano Min Joo Yi\, Piano Evren Ozel\, Piano Jonathan Mamora\, Piano Repertoire CONCERTO NO. 3 (Sat) Min Joo Yi (Music Academy of the West Solo Piano Concerto Competition) CONCERTO NO. 4 (Sat) Evren Ozel (Cleveland International Piano Competition) CONCERTO NO. 1 (Sun) Dmitry Shishkin (International Tchaikovsky and Geneva International competitions) CONCERTO NO. 2 (Sun) Angie Zhang (American Piano Awards) CONCERTO NO. 5 (Sun) Jonathan Mamora (Palm Springs International Piano Competition) For more info and tickets\, visit: https://thesymphony.org/concerts-events/orchestra-concerts/beethoven-concerto-marathon/
LOCATION:Granada Theatre\, 1214 State St.\, Santa Barbara\, CA
UID:e.3636.3203
SEQUENCE:3
DTSTAMP:20260423T160535Z
URL:https://business.goletachamber.com/events/details/santa-barbara-symphony-beethoven-piano-concerto-marathon-3203
END:VEVENT

END:VCALENDAR
