BEGIN:VCALENDAR
VERSION:2.0
PRODID:-//ChamberMaster//Event Calendar 2.0//EN
METHOD:PUBLISH
X-PUBLISHED-TTL:P3D
REFRESH-INTERVAL:P3D
CALSCALE:GREGORIAN
BEGIN:VEVENT
DTSTART:20260517T023000Z
DTEND:20260517T220000Z
X-MICROSOFT-CDO-ALLDAYEVENT:FALSE
SUMMARY:Santa Barbara Symphony- Mahler's Resurrection (SEASON FINALE)
DESCRIPTION:Santa Barbara Symphony- Mahler's Resurrection (SEASON FINALE) Saturday\, May 16\, 2026 | 7:30 PM Sunday\, May 17\, 2026 | 3:00 PM The Granada Theatre Attend "Conversations with KUSC" with on-air personality Jennifer Miller Hammel Saturday Pre-Concert Chat | 6:30-7:00 PM Sunday Pre-Concert Chat | 2:00-2:30 PM A concert experience unlike any other. Nir Kabaretti leads the Santa Barbara Symphony\, Santa Barbara Symphony Chorus\, and soloists in Mahler's monumental Symphony Number Two. The awe-inspiring "Resurrection" Symphony is a must-see concert event that will bring the 2025-26 season to a triumphant\, roaring close! The Artists Nir Kabaretti\, Conductor Johanna Will\, Soprano Felicia Gavilanes\, Mezzo-Soprano Santa Barbara Symphony Chorus Repertoire MAHLER | Symphony No. 2 "Resurrection" For more info and tickets\, visit: https://thesymphony.org/concerts-events/orchestra-concerts/mahlers-resurrection/
X-ALT-DESC;FMTTYPE=text/html:Santa Barbara Symphony- Mahler&#39\;s Resurrection (SEASON FINALE) Saturday\, May 16\, 2026 | 7:30 PM Sunday\, May 17\, 2026 | 3:00 PM The Granada Theatre Attend &quot\;Conversations with KUSC&quot\; with on-air personality Jennifer Miller Hammel Saturday Pre-Concert Chat | 6:30-7:00 PM Sunday Pre-Concert Chat | 2:00-2:30 PM A concert experience unlike any other. Nir Kabaretti leads the Santa Barbara Symphony\, Santa Barbara Symphony Chorus\, and soloists in Mahler&rsquo\;s monumental Symphony Number Two. The awe-inspiring &ldquo\;Resurrection&rdquo\; Symphony is a must-see concert event that will bring the 2025-26 season to a triumphant\, roaring close! The Artists Nir Kabaretti\, Conductor Johanna Will\, Soprano Felicia Gavilanes\, Mezzo-Soprano Santa Barbara Symphony Chorus Repertoire MAHLER | Symphony No. 2 &ldquo\;Resurrection&rdquo\; For more info and tickets\, visit: https://thesymphony.org/concerts-events/orchestra-concerts/mahlers-resurrection/
LOCATION:Granada Theatre\, 1214 State St.\, Santa Barbara\, CA
UID:e.3636.3207
SEQUENCE:3
DTSTAMP:20260423T204006Z
URL:https://business.goletachamber.com/events/details/santa-barbara-symphony-mahler-s-resurrection-season-finale-3207
END:VEVENT

END:VCALENDAR
