BEGIN:VCALENDAR
VERSION:2.0
PRODID:-//ChamberMaster//Event Calendar 2.0//EN
METHOD:PUBLISH
X-PUBLISHED-TTL:P3D
REFRESH-INTERVAL:P3D
CALSCALE:GREGORIAN
BEGIN:VEVENT
DTSTART:20260215T033000Z
DTEND:20260215T230000Z
X-MICROSOFT-CDO-ALLDAYEVENT:FALSE
SUMMARY:Santa Barbara Symphony- Romantic Hollywood
DESCRIPTION:Santa Barbara Symphony- Romantic Hollywood Valentine's Weekend! Saturday\, February 14\, 2026 | 7:30 PM Sunday\, February 15\, 2026 | 3:00 PM The Granada Theatre Attend "Conversations with KUSC" with on-air personality Jennifer Miller Hammel Saturday Pre-Concert Chat | 6:30-7:00 PM Sunday Pre-Concert Chat | 2:00-2:30 PM Valentine's weekend brings the sweep of cinema's most romantic melodies. A concert of love themes\, stories\, and songs from Hollywood classics: Out of Africa\, Dr. Zhivago\, To Kill a Mockingbird\, and more! The Artist Richard Kaufman\, Conductor For more info and tickets\, visit: https://thesymphony.org/concerts-events/orchestra-concerts/romantic-hollywood/
X-ALT-DESC;FMTTYPE=text/html:Santa Barbara Symphony- Romantic Hollywood Valentine&rsquo\;s Weekend! Saturday\, February 14\, 2026 | 7:30 PM Sunday\, February 15\, 2026 | 3:00 PM The Granada Theatre Attend &quot\;Conversations with KUSC&quot\; with on-air personality Jennifer Miller Hammel Saturday Pre-Concert Chat | 6:30-7:00 PM Sunday Pre-Concert Chat | 2:00-2:30 PM Valentine&rsquo\;s weekend brings the sweep of cinema&rsquo\;s most romantic melodies. A concert of love themes\, stories\, and songs from Hollywood classics: Out of Africa\, Dr. Zhivago\, To Kill a Mockingbird\, and more! The Artist Richard Kaufman\, Conductor For more info and tickets\, visit: https://thesymphony.org/concerts-events/orchestra-concerts/romantic-hollywood/
LOCATION:Granada Theatre\, 1214 State St.\, Santa Barbara\, CA
UID:e.3636.3204
SEQUENCE:3
DTSTAMP:20260423T160351Z
URL:https://business.goletachamber.com/events/details/santa-barbara-symphony-romantic-hollywood-3204
END:VEVENT

END:VCALENDAR
