BEGIN:VCALENDAR
VERSION:2.0
PRODID:-//ChamberMaster//Event Calendar 2.0//EN
METHOD:PUBLISH
X-PUBLISHED-TTL:P3D
REFRESH-INTERVAL:P3D
CALSCALE:GREGORIAN
BEGIN:VEVENT
DTSTART:20251015T160000Z
DTEND:20251015T190000Z
X-MICROSOFT-CDO-ALLDAYEVENT:FALSE
SUMMARY:Senior Expo of Santa Barbara
DESCRIPTION:The Senior Expo is the best ticket in town for Santa Barbara's seniors and caregivers. Mark your calendars the 2025 Senior Expo is coming Wednesday\, October 15! This year's event will once again feature health screenings\, exhibits\, music\, food\, and engaging activities for seniors and their caregivers. Flu shots will be provided by CVS Pharmacy\, including the senior dose for those 65+.\n\n\n\nExhibitors will include financial services\, residential facilities\, travel clubs\, health care providers\, home care services\, government agencies\, local nonprofits\, the Caregiver Caf \, and many more.\n\n\n\nDon't Miss These 34th Annual Expo Features:\n\n\n\nLive Music\, 110+ Exhibits\, Free parking\, $5 admission\n\nFree Haircuts\, Photo Booth\, Music and much more!!!\n\nCaregivers' Caf    a relaxing place to receive support and information\n\nBlood Pressure Screening by VNA Health Loan Closet\n\nGlaucoma Screening by Lions Sight & Hearing Center\n\nEye Tests courtesy of SEE International\n\nHearing Screening by Lions Sight & Hearing Center\n\nSansum Diabetes Testing & Counseling\n\n\n\n2025 Sponsors: Family Service Agency\, VNA Health\, COX Communications\, Mission Park Healthcare Center\, Central Coast Home Health & Hospice\, CenCal Health\, Cottage Health\, Love & Care\,  Stevens & Associates Insurance Agency\, Sutter Health\, US Bank\, Vista Del Monte\, Wood Glen
X-ALT-DESC;FMTTYPE=text/html:The Senior Expo is the best ticket in town for Santa Barbara&rsquo\;s seniors and caregivers. Mark your calendars&mdash\;the 2025 Senior Expo is coming Wednesday\, October 15! This year&rsquo\;s event will once again feature health screenings\, exhibits\, music\, food\, and engaging activities for seniors and their caregivers. Flu shots will be provided by CVS Pharmacy\, including the senior dose for those 65+.<br />\n<br />\nExhibitors will include financial services\, residential facilities\, travel clubs\, health care providers\, home care services\, government agencies\, local nonprofits\, the Caregiver Caf&eacute\;\, and many more.<br />\n<br />\nDon&rsquo\;t Miss These 34th Annual Expo Features:<br />\n<br />\nLive Music\, 110+ Exhibits\, Free parking\, $5 admission<br />\nFree Haircuts\, Photo Booth\, Music&hellip\;and much more!!!<br />\nCaregivers&rsquo\; Caf&eacute\; &ndash\; a relaxing place to receive support and information<br />\nBlood Pressure Screening by VNA Health Loan Closet<br />\nGlaucoma Screening by Lions Sight &amp\; Hearing Center<br />\nEye Tests courtesy of SEE International<br />\nHearing Screening by Lions Sight &amp\; Hearing Center<br />\nSansum Diabetes Testing &amp\; Counseling<br />\n<br />\n2025 Sponsors: Family Service Agency\, VNA Health\, COX Communications\, Mission Park Healthcare Center\, Central Coast Home Health &amp\; Hospice\, CenCal Health\, Cottage Health\, Love &amp\; Care\,&nbsp\; Stevens &amp\; Associates Insurance Agency\, Sutter Health\, US Bank\, Vista Del Monte\, Wood Glen
LOCATION:Earl Warren Showgrounds 3400 Calle Real\, Santa Barbara\, CA 93105
UID:e.3636.3173
SEQUENCE:3
DTSTAMP:20260423T111243Z
URL:https://business.goletachamber.com/events/details/senior-expo-of-santa-barbara-3173
END:VEVENT

END:VCALENDAR
