BEGIN:VCALENDAR
VERSION:2.0
PRODID:-//ChamberMaster//Event Calendar 2.0//EN
METHOD:PUBLISH
X-PUBLISHED-TTL:P3D
REFRESH-INTERVAL:P3D
CALSCALE:GREGORIAN
BEGIN:VEVENT
DTSTART:20250830T010000Z
DTEND:20250830T050000Z
X-MICROSOFT-CDO-ALLDAYEVENT:FALSE
SUMMARY:Sunset Ska Party at the Kimpton Canary Rooftop
DESCRIPTION:Soak in the summer sunset at the Kimpton Canary Hotel rooftop on Friday\, August 29 from 6 10pm\, and enjoy an unforgettable evening under the open sky with live music from local Reggae/Ska favorite\, Koalishon. Dance\, sip\, and sway as the sun sets and the good vibes rise in this 21+ summer celebration. Tickets are $20\, with drinks available for purchase at the bar - you won't want to miss it!
X-ALT-DESC;FMTTYPE=text/html:Soak in the summer sunset at the Kimpton Canary Hotel rooftop on Friday\, August 29 from 6&ndash\;10pm\, and enjoy an unforgettable evening under the open sky with live music from local Reggae/Ska favorite\, Koalishon. Dance\, sip\, and sway as the sun sets and the good vibes rise in this 21+ summer celebration. Tickets are $20\, with drinks available for purchase at the bar - you won&rsquo\;t want to miss it!
LOCATION:Kimpton Canary Hotel
UID:e.3636.2342
SEQUENCE:3
DTSTAMP:20260419T115141Z
URL:https://business.goletachamber.com/events/details/sunset-ska-party-at-the-kimpton-canary-rooftop-2342
END:VEVENT

END:VCALENDAR
