BEGIN:VCALENDAR
VERSION:2.0
PRODID:-//ChamberMaster//Event Calendar 2.0//EN
METHOD:PUBLISH
X-PUBLISHED-TTL:P3D
REFRESH-INTERVAL:P3D
CALSCALE:GREGORIAN
BEGIN:VEVENT
DTSTART:20260429T180000Z
DTEND:20260429T200000Z
X-MICROSOFT-CDO-ALLDAYEVENT:FALSE
SUMMARY:The Future Looks Bright Job Fair\, SBCC School of Extended Learning
DESCRIPTION:Santa Barbara City College's (SBCC) School of Extended Learning invites job seekers to our annual "Future Looks Bright" Job Fair. The free\, public event is designed to connect local job seekers with employers that are hiring now\, with dedicated space for on-the-spot interviews and ample opportunities to network.   Connect with employers   Interview on site   Get FREE LinkedIn Professional head shots   Networking opportunities! More than 20 employers in job sectors from healthcare and hospitality to government\, education\, and nonprofit sectors are expected. Complimentary headshots for job-seeking attendees (to enhance their resumes and professional profiles) will also be offered. "The Future Looks Bright" Job Fair takes place on Wednesday\, April 29\, 11 a.m.   1 p.m. Date: Wednesday\, April 29 Time: 11 a.m.   1 p.m. Location: Wake Campus at 300 N Turnpike Road\, Santa Barbara\, CA 93111 Cost: Free What attendees should know:   Bring multiple copies of your resume and be prepared for brief\, on-the-spot interviews.   Wear professional attire and plan time to visit several employer tables and resource partners. https://www.sbcc.edu/extendedlearning/job_fair.php
X-ALT-DESC;FMTTYPE=text/html:Santa Barbara City College&rsquo\;s (SBCC) School of Extended Learning invites job seekers to our annual &ldquo\;Future Looks Bright&rdquo\; Job Fair. The free\, public event is designed to connect local job seekers with employers that are hiring now\, with dedicated space for on-the-spot interviews and ample opportunities to network. &bull\; Connect with employers &bull\; Interview on site &bull\; Get FREE LinkedIn Professional head shots &bull\; Networking opportunities! More than 20 employers in job sectors from healthcare and hospitality to government\, education\, and nonprofit sectors are expected. Complimentary headshots for job-seeking attendees (to enhance their resumes and professional profiles) will also be offered. &ldquo\;The Future Looks Bright&rdquo\; Job Fair takes place on Wednesday\, April 29\, 11 a.m. &ndash\; 1 p.m. Date: Wednesday\, April 29 Time: 11 a.m. &ndash\; 1 p.m. Location: Wake Campus at 300 N Turnpike Road\, Santa Barbara\, CA 93111 Cost: Free What attendees should know: &bull\; Bring multiple copies of your resume and be prepared for brief\, on-the-spot interviews. &bull\; Wear professional attire and plan time to visit several employer tables and resource partners. https://www.sbcc.edu/extendedlearning/job_fair.php
LOCATION:Wake Campus 300 N Turnpike Rd Santa Barbara\, CA 93111
UID:e.3636.3483
SEQUENCE:3
DTSTAMP:20260423T213756Z
URL:https://business.goletachamber.com/events/details/the-future-looks-bright-job-fair-sbcc-school-of-extended-learning-3483
END:VEVENT

END:VCALENDAR
