BEGIN:VCALENDAR
VERSION:2.0
PRODID:-//ChamberMaster//Event Calendar 2.0//EN
METHOD:PUBLISH
X-PUBLISHED-TTL:P3D
REFRESH-INTERVAL:P3D
CALSCALE:GREGORIAN
BEGIN:VEVENT
DTSTART:20251010T000000Z
DTEND:20251010T030000Z
X-MICROSOFT-CDO-ALLDAYEVENT:FALSE
SUMMARY:Think Pink\, Sunset Rooftop Party
DESCRIPTION:Get ready for a night of fun\, music\, and breathtaking views at this fundraiser for the Breast Cancer Awareness Center. Paint the town pink and dance the night away under the stars with tunes from DJ Darla Bea. Feast on bites from Finch & Fork\, an extra special dessert bar\, and enjoy wine tastings from Amanda Cellars and Kunin Wines. All ticket proceeds will go to the Breast Cancer Awareness Center. Don't miss out on this fabulous event!
X-ALT-DESC;FMTTYPE=text/html:Get ready for a night of fun\, music\, and breathtaking views at this fundraiser for the Breast Cancer Awareness Center. Paint the town pink and dance the night away under the stars with tunes from DJ Darla Bea. Feast on bites from Finch &amp\; Fork\, an extra special dessert bar\, and enjoy wine tastings from Amanda Cellars and Kunin Wines. All ticket proceeds will go to the Breast Cancer Awareness Center. Don&#39\;t miss out on this fabulous event!
LOCATION:Kimpton Canary Hotel
UID:e.3636.3176
SEQUENCE:3
DTSTAMP:20260423T111123Z
URL:https://business.goletachamber.com/events/details/think-pink-sunset-rooftop-party-3176
END:VEVENT

END:VCALENDAR
